BEGIN:VCALENDAR
VERSION:2.0
PRODID:-//69.65.28.100//NONSGML kigkonsult.se iCalcreator 2.20//
CALSCALE:GREGORIAN
METHOD:PUBLISH
X-WR-TIMEZONE:UTC
BEGIN:VEVENT
UID:event78@Green Country Triumphs
DTSTAMP:20260422T090808Z
CATEGORIES:Monthly Meeting
DESCRIPTION:Monthly Meeting - Big Whiskey\nCategory: Monthly Meeting\nLink:
  https://greencountrytriumphs.com/index.php?option=com_jem&view=event&id=7
 8:monthly-meeting-big-whiskey\n
DTSTART:20260120T060000Z
DTEND:20260120T080000Z
LOCATION:Big Whisky\,4532 E 51st St\,74135 Tulsa
SUMMARY:Monthly Meeting - Big Whiskey
URL:https://greencountrytriumphs.com/index.php?option=com_jem&view=event&id
 =78:monthly-meeting-big-whiskey
END:VEVENT
END:VCALENDAR
