BEGIN:VCALENDAR
VERSION:2.0
PRODID:-//69.65.28.100//NONSGML kigkonsult.se iCalcreator 2.20//
CALSCALE:GREGORIAN
METHOD:PUBLISH
X-WR-TIMEZONE:UTC
BEGIN:VEVENT
UID:event79@Green Country Triumphs
DTSTAMP:20260420T093601Z
CATEGORIES:Monthly Meeting
DESCRIPTION:Monthly Meeting - Roka\nCategory: Monthly Meeting\nLink: https:
 //greencountrytriumphs.com/index.php?option=com_jem&view=event&id=79:month
 ly-meeting-roka\n
DTSTART:20260217T180000Z
DTEND:20260217T200000Z
LOCATION:Roka\,1616 South Utica Ave\,74101 Tulsa
SUMMARY:Monthly Meeting - Roka
URL:https://greencountrytriumphs.com/index.php?option=com_jem&view=event&id
 =79:monthly-meeting-roka
END:VEVENT
END:VCALENDAR
